BEGIN:VCALENDAR
VERSION:2.0
PRODID:-//Ecole Medica Minerva - ECPv6.15.20//NONSGML v1.0//EN
CALSCALE:GREGORIAN
METHOD:PUBLISH
X-WR-CALNAME:Ecole Medica Minerva
X-ORIGINAL-URL:https://ecole-medica.ch
X-WR-CALDESC:Évènements pour Ecole Medica Minerva
REFRESH-INTERVAL;VALUE=DURATION:PT1H
X-Robots-Tag:noindex
X-PUBLISHED-TTL:PT1H
BEGIN:VTIMEZONE
TZID:Europe/Paris
BEGIN:DAYLIGHT
TZOFFSETFROM:+0100
TZOFFSETTO:+0200
TZNAME:CEST
DTSTART:20230326T010000
END:DAYLIGHT
BEGIN:STANDARD
TZOFFSETFROM:+0200
TZOFFSETTO:+0100
TZNAME:CET
DTSTART:20231029T010000
END:STANDARD
BEGIN:DAYLIGHT
TZOFFSETFROM:+0100
TZOFFSETTO:+0200
TZNAME:CEST
DTSTART:20240331T010000
END:DAYLIGHT
BEGIN:STANDARD
TZOFFSETFROM:+0200
TZOFFSETTO:+0100
TZNAME:CET
DTSTART:20241027T010000
END:STANDARD
BEGIN:DAYLIGHT
TZOFFSETFROM:+0100
TZOFFSETTO:+0200
TZNAME:CEST
DTSTART:20250330T010000
END:DAYLIGHT
BEGIN:STANDARD
TZOFFSETFROM:+0200
TZOFFSETTO:+0100
TZNAME:CET
DTSTART:20251026T010000
END:STANDARD
END:VTIMEZONE
BEGIN:VEVENT
DTSTART;TZID=Europe/Paris:20240919T090000
DTEND;TZID=Europe/Paris:20240919T120000
DTSTAMP:20260423T162152
CREATED:20240711T145629Z
LAST-MODIFIED:20240711T145630Z
UID:14261-1726736400-1726747200@ecole-medica.ch
SUMMARY:Formation Prises de sang et injections: début de la formation PS-8.24
DESCRIPTION:FORMATION PS-8.24 \n\n\n\n\n\n\n\nCalendrier de la formation PS-8.24: \n\n\n\nJeudi 19.09.2024 9h-12hJeudi 26.09.2024 9h-12hJeudi 03.10.2024 9h-12hJeudi 10.10.2024 9h-12h
URL:https://ecole-medica.ch/calendrier/formation-prises-de-sang-et-injections-debut-de-la-formation-ps-8-24/
LOCATION:Ecole Médica\, Place Pépinet 1\, Lausanne\, Vaud\, 1003\, Switzerland
CATEGORIES:Formations,Prises de sang et injections
ORGANIZER;CN="Ecole M%C3%A9dica":MAILTO:info@ecole-medica.ch
END:VEVENT
END:VCALENDAR