BEGIN:VCALENDAR
VERSION:2.0
PRODID:-//Ecole Medica Minerva - ECPv6.15.20//NONSGML v1.0//EN
CALSCALE:GREGORIAN
METHOD:PUBLISH
X-WR-CALNAME:Ecole Medica Minerva
X-ORIGINAL-URL:https://ecole-medica.ch
X-WR-CALDESC:Évènements pour Ecole Medica Minerva
REFRESH-INTERVAL;VALUE=DURATION:PT1H
X-Robots-Tag:noindex
X-PUBLISHED-TTL:PT1H
BEGIN:VTIMEZONE
TZID:Europe/Paris
BEGIN:DAYLIGHT
TZOFFSETFROM:+0100
TZOFFSETTO:+0200
TZNAME:CEST
DTSTART:20230326T010000
END:DAYLIGHT
BEGIN:STANDARD
TZOFFSETFROM:+0200
TZOFFSETTO:+0100
TZNAME:CET
DTSTART:20231029T010000
END:STANDARD
BEGIN:DAYLIGHT
TZOFFSETFROM:+0100
TZOFFSETTO:+0200
TZNAME:CEST
DTSTART:20240331T010000
END:DAYLIGHT
BEGIN:STANDARD
TZOFFSETFROM:+0200
TZOFFSETTO:+0100
TZNAME:CET
DTSTART:20241027T010000
END:STANDARD
BEGIN:DAYLIGHT
TZOFFSETFROM:+0100
TZOFFSETTO:+0200
TZNAME:CEST
DTSTART:20250330T010000
END:DAYLIGHT
BEGIN:STANDARD
TZOFFSETFROM:+0200
TZOFFSETTO:+0100
TZNAME:CET
DTSTART:20251026T010000
END:STANDARD
END:VTIMEZONE
BEGIN:VEVENT
DTSTART;TZID=Europe/Paris:20240618T090000
DTEND;TZID=Europe/Paris:20240618T120000
DTSTAMP:20260425T152633
CREATED:20240331T185105Z
LAST-MODIFIED:20240604T073654Z
UID:14021-1718701200-1718712000@ecole-medica.ch
SUMMARY:Formation Prises de sang et injections: début de la formation PS-5.24 / Complet
DESCRIPTION:FORMATION PS-5.24 \n\n\n\n\n\n\n\nCalendrier de la formation PS-5.24: \n\n\n\nMardi 18.06.2024 de 9h à 12hMardi 25.06.2024 de 9h à 12hJeudi 27.06.2024 de 9h à 12hMardi 02.07.2024 de 9h à 12h
URL:https://ecole-medica.ch/calendrier/formation-prises-de-sang-et-injections-debut-de-la-formation-ps5-24/
LOCATION:Ecole Médica\, Place Pépinet 1\, Lausanne\, Vaud\, 1003\, Switzerland
CATEGORIES:Formations,Prises de sang et injections
ORGANIZER;CN="Ecole M%C3%A9dica":MAILTO:info@ecole-medica.ch
END:VEVENT
BEGIN:VEVENT
DTSTART;TZID=Europe/Paris:20240530T130000
DTEND;TZID=Europe/Paris:20240530T160000
DTSTAMP:20260425T152633
CREATED:20240308T110725Z
LAST-MODIFIED:20240604T073531Z
UID:13638-1717074000-1717084800@ecole-medica.ch
SUMMARY:Formation Prises de sang et injections: début de la formation PS-2.24 / Complet
DESCRIPTION:FORMATION PS-2.24 \n\n\n\n\n\n\n\nCalendrier de la formation PS-2.24: \n\n\n\nJeudi 30.05.2024 de 13h à 16hJeudi 06.06.2024 de 13h à 16hJeudi 13.06.2024 de 13h à 16hJeudi 20.06.2024 de 8h30 à 11h30
URL:https://ecole-medica.ch/calendrier/formation-prises-de-sang-et-injections-debut-de-la-formation-ps2-2024/
LOCATION:Ecole Médica\, Place Pépinet 1\, Lausanne\, Vaud\, 1003\, Switzerland
CATEGORIES:Formations,Prises de sang et injections
ORGANIZER;CN="Ecole M%C3%A9dica":MAILTO:info@ecole-medica.ch
END:VEVENT
BEGIN:VEVENT
DTSTART;TZID=Europe/Paris:20240522T130000
DTEND;TZID=Europe/Paris:20240522T160000
DTSTAMP:20260425T152633
CREATED:20240211T182107Z
LAST-MODIFIED:20240331T185923Z
UID:12753-1716382800-1716393600@ecole-medica.ch
SUMMARY:Formation Prises de sang et injections: début de la formation PS-1.24
DESCRIPTION:FORMATION PS-1.24 \n\n\n\n\n\n\n\nCalendrier de la formation PS-1.24: \n\n\n\nMercredi 22.05.2024 de 13h à 16hMercredi 29.05.2024 de 8h30 à 11h30Mercredi 05.06.2024 de 13h à 16hMercredi 12.06.2024 de 8h30 à 11h30
URL:https://ecole-medica.ch/calendrier/formation-prises-de-sang-et-injections-ps1-24/
LOCATION:Ecole Médica\, Place Pépinet 1\, Lausanne\, Vaud\, 1003\, Switzerland
CATEGORIES:Formations,Prises de sang et injections
ORGANIZER;CN="Ecole M%C3%A9dica":MAILTO:info@ecole-medica.ch
END:VEVENT
BEGIN:VEVENT
DTSTART;TZID=Europe/Paris:20240501T130000
DTEND;TZID=Europe/Paris:20240501T160000
DTSTAMP:20260425T152633
CREATED:20240924T113216Z
LAST-MODIFIED:20240924T113217Z
UID:14358-1714568400-1714579200@ecole-medica.ch
SUMMARY:Formation Bandages et pansements: début de la formation BP-1.25
DESCRIPTION:FORMATION BP-1.25 \n\n\n\n\n\n\n\nCalendrier de la formation BP-1.25: \n\n\n\nJeudi 01.05.2025 13h-16h Jeudi 08.05.2025 13h-16h Jeudi 15.05.2025 13h-16h Jeudi 22.05.2025 13h-14h30 
URL:https://ecole-medica.ch/calendrier/formation-bandages-et-pansements-debut-de-la-formation-bp-1-25/
LOCATION:Ecole Médica\, Place Pépinet 1\, Lausanne\, Vaud\, 1003\, Switzerland
CATEGORIES:Bandages et pansements,Formations
ORGANIZER;CN="Ecole M%C3%A9dica":MAILTO:info@ecole-medica.ch
END:VEVENT
END:VCALENDAR