BEGIN:VCALENDAR
VERSION:2.0
PRODID:-//Ecole Medica Minerva - ECPv6.15.20//NONSGML v1.0//EN
CALSCALE:GREGORIAN
METHOD:PUBLISH
X-ORIGINAL-URL:https://ecole-medica.ch
X-WR-CALDESC:Évènements pour Ecole Medica Minerva
REFRESH-INTERVAL;VALUE=DURATION:PT1H
X-Robots-Tag:noindex
X-PUBLISHED-TTL:PT1H
BEGIN:VTIMEZONE
TZID:Europe/Paris
BEGIN:DAYLIGHT
TZOFFSETFROM:+0100
TZOFFSETTO:+0200
TZNAME:CEST
DTSTART:20230326T010000
END:DAYLIGHT
BEGIN:STANDARD
TZOFFSETFROM:+0200
TZOFFSETTO:+0100
TZNAME:CET
DTSTART:20231029T010000
END:STANDARD
BEGIN:DAYLIGHT
TZOFFSETFROM:+0100
TZOFFSETTO:+0200
TZNAME:CEST
DTSTART:20240331T010000
END:DAYLIGHT
BEGIN:STANDARD
TZOFFSETFROM:+0200
TZOFFSETTO:+0100
TZNAME:CET
DTSTART:20241027T010000
END:STANDARD
BEGIN:DAYLIGHT
TZOFFSETFROM:+0100
TZOFFSETTO:+0200
TZNAME:CEST
DTSTART:20250330T010000
END:DAYLIGHT
BEGIN:STANDARD
TZOFFSETFROM:+0200
TZOFFSETTO:+0100
TZNAME:CET
DTSTART:20251026T010000
END:STANDARD
END:VTIMEZONE
BEGIN:VEVENT
DTSTART;VALUE=DATE:20240628
DTEND;VALUE=DATE:20240821
DTSTAMP:20260424T002334
CREATED:20240211T230343Z
LAST-MODIFIED:20240211T231522Z
UID:12784-1719532800-1724198399@ecole-medica.ch
SUMMARY:Vacances d'été
DESCRIPTION:
URL:https://ecole-medica.ch/calendrier/vacances-dete/
LOCATION:Vaud
CATEGORIES:Vacances
END:VEVENT
BEGIN:VEVENT
DTSTART;TZID=Europe/Paris:20240812T090000
DTEND;TZID=Europe/Paris:20240812T120000
DTSTAMP:20260424T002334
CREATED:20240603T095954Z
LAST-MODIFIED:20240711T144237Z
UID:14204-1723453200-1723464000@ecole-medica.ch
SUMMARY:Formation Prises de sang et injections: début de la formation PS-6.24 – Complet
DESCRIPTION:FORMATION PS-6.24 \n\n\n\n\n\n\n\nCalendrier de la formation PS-6.24: \n\n\n\nLundi 12.08.2024 9h-12hMercredi 14.08.2024 9h-12hVendredi 16.08.2024 9h-12hLundi 19.08.2024 9h-12h
URL:https://ecole-medica.ch/calendrier/formation-prises-de-sang-et-injections-debut-de-la-formation-ps-6-24/
LOCATION:Ecole Médica\, Place Pépinet 1\, Lausanne\, Vaud\, 1003\, Switzerland
CATEGORIES:Formations,Prises de sang et injections
ORGANIZER;CN="Ecole M%C3%A9dica":MAILTO:info@ecole-medica.ch
END:VEVENT
BEGIN:VEVENT
DTSTART;TZID=Europe/Paris:20240812T130000
DTEND;TZID=Europe/Paris:20240812T160000
DTSTAMP:20260424T002334
CREATED:20240321T120017Z
LAST-MODIFIED:20240711T144437Z
UID:13776-1723467600-1723478400@ecole-medica.ch
SUMMARY:Formation Bandages et pansements: début de la formation BP-6.24 – 3 places restantes
DESCRIPTION:FORMATION BP-6.24 \n\n\n\n\n\n\n\nCalendrier de la formation BP-6.24: \n\n\n\nLundi 12.08.2024 de 13h-16hMercredi 14.08.2024 de 13h-16hVendredi 16.08.2024 de 13h-16hLundi 19.08.2024 de 13h-14h30 (évaluation pratique et théorique)
URL:https://ecole-medica.ch/calendrier/formation-bandages-et-pansements-debut-de-la-formation-bp6-2024/
LOCATION:Ecole Médica\, Place Pépinet 1\, Lausanne\, Vaud\, 1003\, Switzerland
CATEGORIES:Bandages et pansements,Formations
ORGANIZER;CN="Ecole M%C3%A9dica":MAILTO:info@ecole-medica.ch
END:VEVENT
END:VCALENDAR